BEGIN:VCALENDAR
VERSION:2.0
PRODID:-//Shop Your City - ECPv6.15.20//NONSGML v1.0//EN
CALSCALE:GREGORIAN
METHOD:PUBLISH
X-WR-CALNAME:Shop Your City
X-ORIGINAL-URL:https://shopyourcity.cityofnewyork.us
X-WR-CALDESC:Events for Shop Your City
REFRESH-INTERVAL;VALUE=DURATION:PT1H
X-Robots-Tag:noindex
X-PUBLISHED-TTL:PT1H
BEGIN:VTIMEZONE
TZID:America/New_York
BEGIN:DAYLIGHT
TZOFFSETFROM:-0500
TZOFFSETTO:-0400
TZNAME:EDT
DTSTART:20220313T070000
END:DAYLIGHT
BEGIN:STANDARD
TZOFFSETFROM:-0400
TZOFFSETTO:-0500
TZNAME:EST
DTSTART:20221106T060000
END:STANDARD
BEGIN:DAYLIGHT
TZOFFSETFROM:-0500
TZOFFSETTO:-0400
TZNAME:EDT
DTSTART:20230312T070000
END:DAYLIGHT
BEGIN:STANDARD
TZOFFSETFROM:-0400
TZOFFSETTO:-0500
TZNAME:EST
DTSTART:20231105T060000
END:STANDARD
BEGIN:DAYLIGHT
TZOFFSETFROM:-0500
TZOFFSETTO:-0400
TZNAME:EDT
DTSTART:20240310T070000
END:DAYLIGHT
BEGIN:STANDARD
TZOFFSETFROM:-0400
TZOFFSETTO:-0500
TZNAME:EST
DTSTART:20241103T060000
END:STANDARD
END:VTIMEZONE
BEGIN:VEVENT
DTSTART;TZID=America/New_York:20230508T060000
DTEND;TZID=America/New_York:20230508T070000
DTSTAMP:20260421T142705
CREATED:20230429T010310Z
LAST-MODIFIED:20230501T201235Z
UID:1521-1683525600-1683529200@shopyourcity.cityofnewyork.us
SUMMARY:Meet the Lender: Greater Jamaica Development Corp
DESCRIPTION:Join us to connect with one of our lending partners.In this webinar\, we will discuss general considerations and guidelines for financing your businesses. You will also have the opportunity to connect with one of our lending partners and ask specific questions about your business finance needs\, and the financial products offered by our partner. \nWebinar Duration: 1 Hour \nPlease note: This is an online webinar. You will receive the details needed to join within 24 hours of the scheduled start time. To receive these details\, you MUST register beforehand.
URL:https://shopyourcity.cityofnewyork.us/event/meet-the-lender-greater-jamaica-development-corp-queens-5-8-23/
LOCATION:Webinar
CATEGORIES:NYC Department of Small Business Services,NYC Small Business Month,Queens
ATTACH;FMTTYPE=image/jpeg:https://shopyourcity.cityofnewyork.us/wp-content/uploads/2023/04/Financing-Assistance-program.jpg
ORGANIZER;CN="NYC Department of Small Business Services":MAILTO:business@sbs.nyc.gov
END:VEVENT
BEGIN:VEVENT
DTSTART;TZID=America/New_York:20230508T200000
DTEND;TZID=America/New_York:20230509T195959
DTSTAMP:20260421T142705
CREATED:20230427T010834Z
LAST-MODIFIED:20230427T010835Z
UID:1444-1683576000-1683662399@shopyourcity.cityofnewyork.us
SUMMARY:Citywide BID Day
DESCRIPTION:NYC’s Business Improvement Districts (BIDs) deliver more than $160 million in additional services throughout the five boroughs and build vibrant neighborhoods where New Yorker’s shop\, work and live. \nVisit your local Business Improvement District to see what activities they are planning during the month of May to celebrate their local merchants and unique neighborhoods!
URL:https://shopyourcity.cityofnewyork.us/event/citywide-bid-day/
LOCATION:New York
CATEGORIES:NYC Department of Small Business Services,NYC Small Business Month
ATTACH;FMTTYPE=image/jpeg:https://shopyourcity.cityofnewyork.us/wp-content/uploads/2023/04/LIC-bid-scaled.jpg
ORGANIZER;CN="NYC Department of Small Business Services":MAILTO:business@sbs.nyc.gov
END:VEVENT
END:VCALENDAR