BEGIN:VCALENDAR
VERSION:2.0
PRODID:-//Shop Your City - ECPv6.15.20//NONSGML v1.0//EN
CALSCALE:GREGORIAN
METHOD:PUBLISH
X-ORIGINAL-URL:https://shopyourcity.cityofnewyork.us
X-WR-CALDESC:Events for Shop Your City
REFRESH-INTERVAL;VALUE=DURATION:PT1H
X-Robots-Tag:noindex
X-PUBLISHED-TTL:PT1H
BEGIN:VTIMEZONE
TZID:America/New_York
BEGIN:DAYLIGHT
TZOFFSETFROM:-0500
TZOFFSETTO:-0400
TZNAME:EDT
DTSTART:20230312T070000
END:DAYLIGHT
BEGIN:STANDARD
TZOFFSETFROM:-0400
TZOFFSETTO:-0500
TZNAME:EST
DTSTART:20231105T060000
END:STANDARD
BEGIN:DAYLIGHT
TZOFFSETFROM:-0500
TZOFFSETTO:-0400
TZNAME:EDT
DTSTART:20240310T070000
END:DAYLIGHT
BEGIN:STANDARD
TZOFFSETFROM:-0400
TZOFFSETTO:-0500
TZNAME:EST
DTSTART:20241103T060000
END:STANDARD
BEGIN:DAYLIGHT
TZOFFSETFROM:-0500
TZOFFSETTO:-0400
TZNAME:EDT
DTSTART:20250309T070000
END:DAYLIGHT
BEGIN:STANDARD
TZOFFSETFROM:-0400
TZOFFSETTO:-0500
TZNAME:EST
DTSTART:20251102T060000
END:STANDARD
END:VTIMEZONE
BEGIN:VEVENT
DTSTART;TZID=America/New_York:20240501T040000
DTEND;TZID=America/New_York:20240530T130000
DTSTAMP:20260421T220153
CREATED:20240520T182937Z
LAST-MODIFIED:20240520T182939Z
UID:2689-1714536000-1717074000@shopyourcity.cityofnewyork.us
SUMMARY:Community Banner Contest
DESCRIPTION:The Bay Ridge 5th Avenue BID is proud to present its first community banner contest – a competition to design a new avenue banner that will raise awareness of 5th Avenue’s diverse retail and restaurant establishments\, showcase the creativity of local artists and the vibrancy of the commercial corridor. \nReside in Bay Ridge and possess a talent for visual arts? Your artwork could be chosen as the next 5th avenue banner! \nApplications will be accepted from April 30 – May 30.
URL:https://shopyourcity.cityofnewyork.us/event/community-banner-contest/
LOCATION:New York
CATEGORIES:Brooklyn
ORGANIZER;CN="Bay Ridge 5th Avenue Business Improvement District":MAILTO:info@bayridgebid.com
END:VEVENT
BEGIN:VEVENT
DTSTART;TZID=America/New_York:20240530T100000
DTEND;TZID=America/New_York:20240530T110000
DTSTAMP:20260421T220153
CREATED:20240520T202225Z
LAST-MODIFIED:20240520T202228Z
UID:2807-1717063200-1717066800@shopyourcity.cityofnewyork.us
SUMMARY:Prepare Your Small Business for Capital
DESCRIPTION:Looking to level up and better understand your financial statements?  \nJoin RBxA for their upcoming event\, Prepare Your Small Business for Capital. \nThis session will equip you to better understand your business bank statements and more — improving your chances to access capital.
URL:https://shopyourcity.cityofnewyork.us/event/prepare-your-small-business-for-capital/
LOCATION:Virtual
CATEGORIES:Brooklyn,NYC Small Business Month
ORGANIZER;CN="Restoration Business Exchange + Accelerator":MAILTO:communications@restorationplaza.org
END:VEVENT
END:VCALENDAR