BEGIN:VCALENDAR
VERSION:2.0
PRODID:-//Shop Your City - ECPv6.15.20//NONSGML v1.0//EN
CALSCALE:GREGORIAN
METHOD:PUBLISH
X-ORIGINAL-URL:https://shopyourcity.cityofnewyork.us
X-WR-CALDESC:Events for Shop Your City
REFRESH-INTERVAL;VALUE=DURATION:PT1H
X-Robots-Tag:noindex
X-PUBLISHED-TTL:PT1H
BEGIN:VTIMEZONE
TZID:UTC
BEGIN:STANDARD
TZOFFSETFROM:+0000
TZOFFSETTO:+0000
TZNAME:UTC
DTSTART:20220101T000000
END:STANDARD
END:VTIMEZONE
BEGIN:VEVENT
DTSTART;TZID=UTC:20230510T110000
DTEND;TZID=UTC:20230510T130000
DTSTAMP:20260420T112837
CREATED:20230428T213722Z
LAST-MODIFIED:20230501T161638Z
UID:1525-1683716400-1683723600@shopyourcity.cityofnewyork.us
SUMMARY:Finanzas Empresariales 1: Como Comenzar
DESCRIPTION:La administración financiera puede ser la parte más intimidante de dirigir un negocio. El objetivo de este curso es revelar que no tiene que ser intimidante. \nDestinado a emprendedores que no están familiarizados con la gestión financiera empresarial\, Finanzas Empresariales 1 presenta sus términos y conceptos clave en el lenguaje diario. \nDurante este curso\, usted: \n\nDesarrollará un entendimiento de los términos financieros básicos de la empresa\, tales como ganancias\, flujo de efectivo y margen bruto\nTrabajará con estados financieros básicos\, incluidos los estados de ingresos\, balances generales\, estados de flujos de efectivo\nDefinirá los gastos comerciales comunes en las etapas de inicio y operación.\nCalculará márgenes brutos\, puntos de equilibrio y objetivos de ganancias utilizando un negocio de estudio de caso\n\nEste curso es el cuarto módulo de la serie de cinco cursos Introducción a la iniciativa empresarial del Departamento de Servicios para Pequeñas Empresas de Nueva York (SBS). Si es un pre-inicio\, le recomendamos que complete los primeros tres módulos de esta serie: “Primer paso para iniciar un negocio”\, “Creación de una idea de negocio que funcione” y “Desarrollo de sus operaciones comerciales” – antes de tomar esto. curso.
URL:https://shopyourcity.cityofnewyork.us/event/finanzas-empresariales-1-como-comenzar/
LOCATION:Webinar
CATEGORIES:Bronx,NYC Department of Small Business Services,NYC Small Business Month
ATTACH;FMTTYPE=image/jpeg:https://shopyourcity.cityofnewyork.us/wp-content/uploads/2022/04/Business-courses-eventbrite-3.jpg
ORGANIZER;CN="NYC Department of Small Business Services":MAILTO:business@sbs.nyc.gov
END:VEVENT
END:VCALENDAR