BEGIN:VCALENDAR
VERSION:2.0
PRODID:-//Shop Your City - ECPv6.15.20//NONSGML v1.0//EN
CALSCALE:GREGORIAN
METHOD:PUBLISH
X-ORIGINAL-URL:https://shopyourcity.cityofnewyork.us
X-WR-CALDESC:Events for Shop Your City
REFRESH-INTERVAL;VALUE=DURATION:PT1H
X-Robots-Tag:noindex
X-PUBLISHED-TTL:PT1H
BEGIN:VTIMEZONE
TZID:UTC
BEGIN:STANDARD
TZOFFSETFROM:+0000
TZOFFSETTO:+0000
TZNAME:UTC
DTSTART:20220101T000000
END:STANDARD
END:VTIMEZONE
BEGIN:VEVENT
DTSTART;TZID=UTC:20230530T140000
DTEND;TZID=UTC:20230530T160000
DTSTAMP:20260420T035522
CREATED:20230501T184913Z
LAST-MODIFIED:20230501T184914Z
UID:1551-1685455200-1685462400@shopyourcity.cityofnewyork.us
SUMMARY:Creating Content Your Customers Value
DESCRIPTION:Many businesses think that marketing only means advertising. But building loyalty with your customers also requires creating marketing content that is helpful\, relevant\, and engaging. \nThis course helps entrepreneurs at any stage define what content will build that loyalty with their customers. By the end of this course\, you will be able to: \n\nUnderstand the role of non-promotional content in a marketing strategy\nApply a framework for developing and assessing your own marketing content\nDefine the language your customers use to describe their needs and desires\nIdentify ideas for marketing content that will work for your business\n\nThis course is the second module in the NYC Department of Small Business Services’ (SBS) six-module Digital Marketing series. We encourage you to complete the first module\, “Developing a Marketing Strategy\,” before you take this course.
URL:https://shopyourcity.cityofnewyork.us/event/creating-content-your-customers-value/
LOCATION:Webinar
CATEGORIES:Bronx,NYC Department of Small Business Services,NYC Small Business Month
ATTACH;FMTTYPE=image/jpeg:https://shopyourcity.cityofnewyork.us/wp-content/uploads/2022/04/Business-courses-eventbrite-9.jpg
ORGANIZER;CN="NYC Department of Small Business Services":MAILTO:business@sbs.nyc.gov
END:VEVENT
BEGIN:VEVENT
DTSTART;TZID=UTC:20240430T180000
DTEND;TZID=UTC:20240430T200000
DTSTAMP:20260420T035522
CREATED:20240419T184614Z
LAST-MODIFIED:20240419T184617Z
UID:2254-1714500000-1714507200@shopyourcity.cityofnewyork.us
SUMMARY:Wakefield Small Business Networking Social
DESCRIPTION:Our monthly Wakefield merchant meeting is where small business owners can come to meet one another\, network\, and build a strong community identity. \nMerchant Networking Socials highlight local resources\, strengthen communication channels to enhance community voice\, and provide interactive activities to connect merchants and enhance small business owner identity. \nFor more information\, please contact srvijayaku@montefiore.org or text 646.592.3086. RSVP is not required.
URL:https://shopyourcity.cityofnewyork.us/event/wakefield-small-business-networking-social/
LOCATION:Bronx Community Board 12\, 4101 White Plains Rd\, Bronx\, NY\, 10466\, United States
CATEGORIES:Bronx,NYC Small Business Month
ATTACH;FMTTYPE=image/png:https://shopyourcity.cityofnewyork.us/wp-content/uploads/2024/04/WAKEFIELD-SMALL-BUSINESS-1.png
ORGANIZER;CN="Mosholu Preservation Corporation":MAILTO:srvijayaku@montefiore.org
END:VEVENT
BEGIN:VEVENT
DTSTART;TZID=UTC:20240501T110000
DTEND;TZID=UTC:20240501T130000
DTSTAMP:20260420T035522
CREATED:20240423T214758Z
LAST-MODIFIED:20240425T195942Z
UID:2286-1714561200-1714568400@shopyourcity.cityofnewyork.us
SUMMARY:Creating a Business Idea that Works
DESCRIPTION:Many people have a business idea and passion for it. But few understand or have the research to prove the idea will work. \nThe goal of this course is to provide you with the tools to analyze your customers\, industry\, and competitors. You will leave the course with an action plan that can determine if your idea is the right market opportunity. \nDuring this course\, you will: \n\nDetermine the market problem your business will solve\nDevelop a framework and research plan to better understand your target customer\, industry\, and competitors\nDevelop a unique value proposition (UVP) statement\nDraft your business concept statement\n\nThis course is the second module in the NYC Department of Small Business Services’ (SBS) five-course Introduction to Entrepreneurship series. \nIf you are a pre-startup\, we recommend you complete the first course in this series\, “First Step to Starting a Business\,” before taking this course.
URL:https://shopyourcity.cityofnewyork.us/event/creating-a-business-idea-that-works-webinar-bronx-5-1-2024/
LOCATION:Webinar
CATEGORIES:Bronx,NYC Small Business Month
ATTACH;FMTTYPE=image/jpeg:https://shopyourcity.cityofnewyork.us/wp-content/uploads/2023/04/Business-courses-eventbrite-4.jpg
ORGANIZER;CN="NYC Department of Small Business Services":MAILTO:business@sbs.nyc.gov
END:VEVENT
BEGIN:VEVENT
DTSTART;TZID=UTC:20240502T110000
DTEND;TZID=UTC:20240502T130000
DTSTAMP:20260420T035522
CREATED:20240425T211551Z
LAST-MODIFIED:20240425T211553Z
UID:2309-1714647600-1714654800@shopyourcity.cityofnewyork.us
SUMMARY:Finanzas Empresariales 2: Planificar Para Ser Rentable
DESCRIPTION:Todos los empresarios están en el negocio para obtener ganancias\, pero solo algunos lo hacen. Un paso crítico para el éxito es crear el plan financiero que guiará su negocio hacia la rentabilidad. \nEl objetivo de este curso es proporcionarle la información y las herramientas para crear su propio plan de rentabilidad. Ya sea que esté planeando comenzar o crecer\, este curso le puede ayudar. \nDurante este curso\, usted: \n\nComenzará a desarrollar un presupuesto de inicio / crecimiento usando listas de verificación de gastos comerciales\nAplicará métodos basados en la investigación para proyectar sus precios y el número de ventas.\nTrabajará con un estado de ingresos y un gráfico proyectados para identificar puntos de equilibrio y rentabilidad\nUtilizará el cálculo del retorno de la inversión (ROI) para comparar las proyecciones financieras con los promedios de la industria\n\nNota: este curso es el segundo de un par de cursos de SBS sobre finanzas empresariales. Por favor complete “Finanzas Empresariales 1: Como Comenzar” antes de asistir a este curso.
URL:https://shopyourcity.cityofnewyork.us/event/finanzas-empresariales-2-planificar-para-ser-rentable-2/
LOCATION:Webinar
CATEGORIES:Bronx,NYC Small Business Month
ATTACH;FMTTYPE=image/jpeg:https://shopyourcity.cityofnewyork.us/wp-content/uploads/2022/04/Business-courses-eventbrite-3.jpg
ORGANIZER;CN="NYC Department of Small Business Services":MAILTO:business@sbs.nyc.gov
END:VEVENT
BEGIN:VEVENT
DTSTART;TZID=UTC:20240508T110000
DTEND;TZID=UTC:20240508T130000
DTSTAMP:20260420T035522
CREATED:20240425T220304Z
LAST-MODIFIED:20240425T220307Z
UID:2306-1715166000-1715173200@shopyourcity.cityofnewyork.us
SUMMARY:Building Your Own Business Website
DESCRIPTION:In the past\, building a business website could be expensive and complicated. But today\, there are website builders that are affordable and easy-to-use for almost any entrepreneur. \nThis course will teach you how to create a professional business website with the latest tools. You will leave this course with a real business website and the information to build and launch it on your own. \nThis course requires a computer. If you cannot bring a computer to the course\, please note this when registering. \nThis course is the third module in the NYC Department of Small Business Services’ (SBS) six-module Digital Marketing series. We encourage you to complete the prior two modules\, “Developing a Marketing Strategy” and “Creating Content Your Customers Value\,” before you take this course.
URL:https://shopyourcity.cityofnewyork.us/event/building-your-own-business-website-3/
LOCATION:Webinar
CATEGORIES:Bronx,NYC Small Business Month
ATTACH;FMTTYPE=image/jpeg:https://shopyourcity.cityofnewyork.us/wp-content/uploads/2022/04/Business-courses-eventbrite-6.jpg
ORGANIZER;CN="NYC Department of Small Business Services":MAILTO:business@sbs.nyc.gov
END:VEVENT
BEGIN:VEVENT
DTSTART;TZID=UTC:20240509T110000
DTEND;TZID=UTC:20240509T130000
DTSTAMP:20260420T035522
CREATED:20240429T150616Z
LAST-MODIFIED:20240429T150618Z
UID:2373-1715252400-1715259600@shopyourcity.cityofnewyork.us
SUMMARY:Financiación de pequeñas empresas: Cómo y dónde obtenerla
DESCRIPTION:Los emprendedores saben que el financiamiento es importante para iniciar y hacer crecer un negocio\, pero la variedad de opciones puede ser difícil de navegar. Este curso le enseña cómo aplicar el método de evaluación de los financieros – las 5 Cs del crédito comercial – y explora las ventajas y desventajas de la financiación basada en deuda\, basada en acciones y financiación colectiva. \nAl final del curso\, podrá: \n\nDescribir el significado y las aplicaciones de las 5 Cs de los préstamos para pequeñas empresas\nAutoevalúe sus propias 5 Cs\, identificando fortalezas y debilidades\nDescriba cómo opera cada tipo de financista y cuente las ventajas y desventajas de cada uno\nReconozca el (los) tipo (s) de financiador que se aplican a su tipo de negocio
URL:https://shopyourcity.cityofnewyork.us/event/financiacion-de-pequenas-empresas-como-y-donde-obtenerla/
LOCATION:Webinar
CATEGORIES:Bronx,NYC Small Business Month
ATTACH;FMTTYPE=image/jpeg:https://shopyourcity.cityofnewyork.us/wp-content/uploads/2022/04/Business-courses-eventbrite-3.jpg
ORGANIZER;CN="NYC Department of Small Business Services":MAILTO:business@sbs.nyc.gov
END:VEVENT
BEGIN:VEVENT
DTSTART;TZID=UTC:20240516T120000
DTEND;TZID=UTC:20240516T150000
DTSTAMP:20260420T035522
CREATED:20240430T173149Z
LAST-MODIFIED:20240501T143339Z
UID:2544-1715860800-1715871600@shopyourcity.cityofnewyork.us
SUMMARY:Bronx Chamber of Commerce Resource Fair
DESCRIPTION:Our Resource Fair is a can’t-miss opportunity for Bronx professionals and recent graduates to meet a diverse array of employers\, refine career goals\, and strengthen their candidacy. \nThe event will also provide a platform for businesses & organizations seeking new talent to augment their hiring efforts in the Bronx. \nDuring the event\, attendees will have access to: \n\nFree Professional Headshots\nOne-on-One Resume Assistance\nEmployers Seeking New Hires\nAnd Much More\n\nSmall businesses that participate in this event will also have access to City agencies on-site providing resources and assistance. \nNOTE: Please enter at Gate 6 (East 161st Street and River Avenue)\, adjacent to right field. \nThis Bronx Chamber of Commerce event is made possible with support from Empire City Casino by MGM Resorts\, and has been developed in partnership with the New York Yankees\, NYC Department of Small Business Services\, and the Bronx EDC.
URL:https://shopyourcity.cityofnewyork.us/event/bronx-chamber-of-commerce-resource-fair/
LOCATION:Yankee Stadium\, One East 161st Street\, Gate 6\, Bronx\, NY\, 10451\, United States
CATEGORIES:Bronx,NYC Department of Small Business Services,NYC Small Business Month
ATTACH;FMTTYPE=image/png:https://shopyourcity.cityofnewyork.us/wp-content/uploads/2024/04/bronx-Resource-Fair-Flyer.png
ORGANIZER;CN="Bronx Chamber of Commerce":MAILTO:helpdesk@bronxchamber.org
END:VEVENT
END:VCALENDAR