BEGIN:VCALENDAR
VERSION:2.0
PRODID:-//Shop Your City - ECPv6.15.20//NONSGML v1.0//EN
CALSCALE:GREGORIAN
METHOD:PUBLISH
X-WR-CALNAME:Shop Your City
X-ORIGINAL-URL:https://shopyourcity.cityofnewyork.us
X-WR-CALDESC:Events for Shop Your City
REFRESH-INTERVAL;VALUE=DURATION:PT1H
X-Robots-Tag:noindex
X-PUBLISHED-TTL:PT1H
BEGIN:VTIMEZONE
TZID:America/New_York
BEGIN:DAYLIGHT
TZOFFSETFROM:-0500
TZOFFSETTO:-0400
TZNAME:EDT
DTSTART:20240310T070000
END:DAYLIGHT
BEGIN:STANDARD
TZOFFSETFROM:-0400
TZOFFSETTO:-0500
TZNAME:EST
DTSTART:20241103T060000
END:STANDARD
BEGIN:DAYLIGHT
TZOFFSETFROM:-0500
TZOFFSETTO:-0400
TZNAME:EDT
DTSTART:20250309T070000
END:DAYLIGHT
BEGIN:STANDARD
TZOFFSETFROM:-0400
TZOFFSETTO:-0500
TZNAME:EST
DTSTART:20251102T060000
END:STANDARD
BEGIN:DAYLIGHT
TZOFFSETFROM:-0500
TZOFFSETTO:-0400
TZNAME:EDT
DTSTART:20260308T070000
END:DAYLIGHT
BEGIN:STANDARD
TZOFFSETFROM:-0400
TZOFFSETTO:-0500
TZNAME:EST
DTSTART:20261101T060000
END:STANDARD
END:VTIMEZONE
BEGIN:VEVENT
DTSTART;TZID=America/New_York:20250519T093000
DTEND;TZID=America/New_York:20250519T110000
DTSTAMP:20260422T184441
CREATED:20250429T212528Z
LAST-MODIFIED:20250429T212530Z
UID:3798-1747647000-1747652400@shopyourcity.cityofnewyork.us
SUMMARY:NYC Small Business Month: Afternoon Tea with SBS Commissioner Dynishal Gross
DESCRIPTION:As a small business\, you probably have lots of questions. Here is your chance to be heard!  \n\n\n\nIn honor of NYC Small Business Month\, the Staten Island Chamber of Commerce is hosting NYC Department of Small Business Services (SBS) Commissioner Dynishal Gross for an afternoon Q&A. \n\n\n\nCommissioner Gross will meet with small businesses\, detail the free resources available at SBS\, provide updates on upcoming events\, and more. \n\n\n\nPlus\, you’ll have the opportunity to network with other small businesses.
URL:https://shopyourcity.cityofnewyork.us/event/nyc-small-business-month-afternoon-tea-with-sbs-commissioner-dynishal-gross/
LOCATION:Island Chateau\, 900 W. Fingerboard Road\, Staten Island\, New York\, 10305\, United States
CATEGORIES:NYC Department of Small Business Services,NYC Small Business Month,Staten Island
ORGANIZER;CN="Staten Island Chamber of Commerce":MAILTO:https://www.sichamber.com/contact
END:VEVENT
BEGIN:VEVENT
DTSTART;TZID=America/New_York:20250520T060000
DTEND;TZID=America/New_York:20250520T093000
DTSTAMP:20260422T184441
CREATED:20250423T201147Z
LAST-MODIFIED:20250423T201148Z
UID:3788-1747720800-1747733400@shopyourcity.cityofnewyork.us
SUMMARY:Grow and Secure Your Business with Google
DESCRIPTION:Join the NYC Department of Small Business Services (SBS) and Google for an in-person session on essential digital tools to grow your business\, improve operational efficiency\, and protect your business against cybersecurity threats. \n\n\n\nAttendees will also have the opportunity to sign up for free\, onsite consultations with SBS’s NYC Business Solutions Center (BSC) advisors. \n\n\n\nNote: Light refreshments will be available.
URL:https://shopyourcity.cityofnewyork.us/event/grow-and-secure-your-business-with-google/
LOCATION:NYC Department of Small Business Services\, 1 Liberty Plaza\, 11th Floor\, New York\, NY\, 10006\, United States
ATTACH;FMTTYPE=image/jpeg:https://shopyourcity.cityofnewyork.us/wp-content/uploads/2025/04/SBM_Expo-digital-SBSGoogle-2160x1080-1.jpg
ORGANIZER;CN="NYC Department of Small Business Services":MAILTO:business@sbs.nyc.gov
END:VEVENT
BEGIN:VEVENT
DTSTART;TZID=America/New_York:20250528T120000
DTEND;TZID=America/New_York:20250528T150000
DTSTAMP:20260422T184441
CREATED:20250503T022031Z
LAST-MODIFIED:20250503T022128Z
UID:3825-1748433600-1748444400@shopyourcity.cityofnewyork.us
SUMMARY:State of NYC Nightlife Town Hall 2025
DESCRIPTION:In celebration of NYC Small Business Month\, the NYC Office of Nightlife invites the entire nightlife industry and community — including bar\, club\, and restaurant owners\, performers\, DJs\, workers\, patrons\, and residents — to come together to learn about our ongoing work\, city programs\, and resources. \n\n\n\nYou will also have the opportunity to connect with representatives from various city agencies and\, most importantly\, share your comments\, concerns\, and recommendations to help shape the future of NYC nightlife. \n\n\n\nWe want to hear from you — your voice matters.
URL:https://shopyourcity.cityofnewyork.us/event/state-of-nyc-nightlife-town-hall-2025/
LOCATION:Center415\, 415 5th Avenue\, New York\, New York\, 10016\, United States
ATTACH;FMTTYPE=image/avif:https://shopyourcity.cityofnewyork.us/wp-content/uploads/2025/05/https___cdn.evbuc_.com_images_1022202163_1991398155883_1_original.avif
ORGANIZER;CN="NYC Department of Small Business Services":MAILTO:business@sbs.nyc.gov
END:VEVENT
BEGIN:VEVENT
DTSTART;TZID=America/New_York:20250529T050000
DTEND;TZID=America/New_York:20250529T120000
DTSTAMP:20260422T184441
CREATED:20250424T211719Z
LAST-MODIFIED:20250424T225920Z
UID:3790-1748494800-1748520000@shopyourcity.cityofnewyork.us
SUMMARY:NYC Small Business Month Expo 2025
DESCRIPTION:The NYC Department of Small Business Services (SBS) is hosting the NYC Small Business Month Expo to provide a variety of free information\, resources\, and direct services* that address the needs of small business owners of all stages\, industries\, and boroughs. \n\n\n\nAccess 100+ free city programs\, agencies\, and partner resources – all under one roof: \n\n\n\n\nFaster city permits and licenses\n\n\n\nFinancing and legal assistance\n\n\n\nHire workers\n\n\n\nGovernment contracting\n\n\n\nFree resource fair\, consultations\, workshops\, and networking\n\n\n\n… and much more!\n\n\n\n\n*NEW THIS YEAR! Make an appointment for an on-site consultation (i.e. financing\, legal\, M/WBE certification\, winning government contracts\, and more). Make sure to check your Expo confirmation email for details and a link to register for a timeslot.
URL:https://shopyourcity.cityofnewyork.us/event/nyc-small-business-month-expo-2025/
LOCATION:Center415\, 415 5th Avenue\, New York\, New York\, 10016\, United States
CATEGORIES:Manhattan,NYC Department of Small Business Services,NYC Small Business Month
ATTACH;FMTTYPE=image/jpeg:https://shopyourcity.cityofnewyork.us/wp-content/uploads/2025/03/NYC_Small-Business_Month-Eventbrite-25.jpg
ORGANIZER;CN="NYC Department of Small Business Services":MAILTO:business@sbs.nyc.gov
END:VEVENT
END:VCALENDAR