BEGIN:VCALENDAR
VERSION:2.0
PRODID:-//Shop Your City - ECPv6.15.20//NONSGML v1.0//EN
CALSCALE:GREGORIAN
METHOD:PUBLISH
X-WR-CALNAME:Shop Your City
X-ORIGINAL-URL:https://shopyourcity.cityofnewyork.us
X-WR-CALDESC:Events for Shop Your City
REFRESH-INTERVAL;VALUE=DURATION:PT1H
X-Robots-Tag:noindex
X-PUBLISHED-TTL:PT1H
BEGIN:VTIMEZONE
TZID:UTC
BEGIN:STANDARD
TZOFFSETFROM:+0000
TZOFFSETTO:+0000
TZNAME:UTC
DTSTART:20210101T000000
END:STANDARD
END:VTIMEZONE
BEGIN:VEVENT
DTSTART;TZID=UTC:20220502T090000
DTEND;TZID=UTC:20220508T235500
DTSTAMP:20260420T081549
CREATED:20220420T210737Z
LAST-MODIFIED:20220427T204932Z
UID:824-1651482000-1652054100@shopyourcity.cityofnewyork.us
SUMMARY:LIC BID Educators Appreciation Week
DESCRIPTION:Are you an educator? Long Island City Partnership is launching its first-ever Educators Appreciation Week\, May 2-8\, to say “Thank You” to teachers\, educators\, and school staff for all that they do – especially over the past two years. \nExplore exclusive promotions from businesses in LIC! \nProof of occupation such as ID badge/school ID or DOE identification will be necessary in order to redeem the promotion.
URL:https://shopyourcity.cityofnewyork.us/event/lic-bid-educators-appreciation-week/
LOCATION:NY
CATEGORIES:Queens
ORGANIZER;CN="LIC Partnership":MAILTO:Ahart@licpartnership.org
END:VEVENT
BEGIN:VEVENT
DTSTART;TZID=UTC:20220430T090000
DTEND;TZID=UTC:20220430T120000
DTSTAMP:20260420T081549
CREATED:20220427T192105Z
LAST-MODIFIED:20220427T192106Z
UID:947-1651309200-1651320000@shopyourcity.cityofnewyork.us
SUMMARY:Red Hook Business Spring Clean Up
DESCRIPTION:Join our “Spring Clean” collective effort! Let’s give our streets and sidewalks some love\, with a focus on the Van Brunt commercial corridor and its cross streets. Or rally a group for your Red Hook block.
URL:https://shopyourcity.cityofnewyork.us/event/red-hook-business-spring-clean-up/
LOCATION:Van Brunt Street & Wolcott Street\, Van Brunt Street & Wolcott Street\, Brooklyn\, NY\, 11231\, United States
CATEGORIES:Brooklyn
ATTACH;FMTTYPE=image/jpeg:https://shopyourcity.cityofnewyork.us/wp-content/uploads/2022/04/red-hook-clean-up.jpg
ORGANIZER;CN="Red Hook Business Alliance":MAILTO:redhookbiz@gmail.com
END:VEVENT
BEGIN:VEVENT
DTSTART;TZID=UTC:20220427T140000
DTEND;TZID=UTC:20220427T153000
DTSTAMP:20260420T081549
CREATED:20220422T213619Z
LAST-MODIFIED:20220425T174459Z
UID:873-1651068000-1651073400@shopyourcity.cityofnewyork.us
SUMMARY:M/WBE Certification Webinar
DESCRIPTION:The NYC Department of Small Business Services will be hosting an Minority and Women-owned Business Enterprise (M/WBE) Certification Programworkshop. \nJoin us to learn about the following: \n\nCertification program overview\nRegistering in the Payee Information Portal (PIP)\nRegistering for product service (NIGP) codes\nStarting a M/WBE certification application
URL:https://shopyourcity.cityofnewyork.us/event/m-wbe-certification-webinar/
LOCATION:NY
CATEGORIES:NYC Department of Small Business Services
ORGANIZER;CN="NYC Department of Small Business Services - Certification":MAILTO:mwbe@sbs.nyc.gov
END:VEVENT
END:VCALENDAR