BEGIN:VCALENDAR
VERSION:2.0
PRODID:-//Shop Your City - ECPv6.15.20//NONSGML v1.0//EN
CALSCALE:GREGORIAN
METHOD:PUBLISH
X-WR-CALNAME:Shop Your City
X-ORIGINAL-URL:https://shopyourcity.cityofnewyork.us
X-WR-CALDESC:Events for Shop Your City
REFRESH-INTERVAL;VALUE=DURATION:PT1H
X-Robots-Tag:noindex
X-PUBLISHED-TTL:PT1H
BEGIN:VTIMEZONE
TZID:America/New_York
BEGIN:DAYLIGHT
TZOFFSETFROM:-0500
TZOFFSETTO:-0400
TZNAME:EDT
DTSTART:20210314T070000
END:DAYLIGHT
BEGIN:STANDARD
TZOFFSETFROM:-0400
TZOFFSETTO:-0500
TZNAME:EST
DTSTART:20211107T060000
END:STANDARD
BEGIN:DAYLIGHT
TZOFFSETFROM:-0500
TZOFFSETTO:-0400
TZNAME:EDT
DTSTART:20220313T070000
END:DAYLIGHT
BEGIN:STANDARD
TZOFFSETFROM:-0400
TZOFFSETTO:-0500
TZNAME:EST
DTSTART:20221106T060000
END:STANDARD
BEGIN:DAYLIGHT
TZOFFSETFROM:-0500
TZOFFSETTO:-0400
TZNAME:EDT
DTSTART:20230312T070000
END:DAYLIGHT
BEGIN:STANDARD
TZOFFSETFROM:-0400
TZOFFSETTO:-0500
TZNAME:EST
DTSTART:20231105T060000
END:STANDARD
END:VTIMEZONE
BEGIN:VEVENT
DTSTART;TZID=America/New_York:20220430T050000
DTEND;TZID=America/New_York:20220430T080000
DTSTAMP:20260422T171812
CREATED:20220427T232105Z
LAST-MODIFIED:20220427T232106Z
UID:947-1651294800-1651305600@shopyourcity.cityofnewyork.us
SUMMARY:Red Hook Business Spring Clean Up
DESCRIPTION:Join our “Spring Clean” collective effort! Let’s give our streets and sidewalks some love\, with a focus on the Van Brunt commercial corridor and its cross streets. Or rally a group for your Red Hook block.
URL:https://shopyourcity.cityofnewyork.us/event/red-hook-business-spring-clean-up/
LOCATION:Van Brunt Street & Wolcott Street\, Van Brunt Street & Wolcott Street\, Brooklyn\, NY\, 11231\, United States
CATEGORIES:Brooklyn
ATTACH;FMTTYPE=image/jpeg:https://shopyourcity.cityofnewyork.us/wp-content/uploads/2022/04/red-hook-clean-up.jpg
ORGANIZER;CN="Red Hook Business Alliance":MAILTO:redhookbiz@gmail.com
END:VEVENT
BEGIN:VEVENT
DTSTART;TZID=America/New_York:20220427T100000
DTEND;TZID=America/New_York:20220427T113000
DTSTAMP:20260422T171812
CREATED:20220423T013619Z
LAST-MODIFIED:20220425T214459Z
UID:873-1651053600-1651059000@shopyourcity.cityofnewyork.us
SUMMARY:M/WBE Certification Webinar
DESCRIPTION:The NYC Department of Small Business Services will be hosting an Minority and Women-owned Business Enterprise (M/WBE) Certification Programworkshop. \nJoin us to learn about the following: \n\nCertification program overview\nRegistering in the Payee Information Portal (PIP)\nRegistering for product service (NIGP) codes\nStarting a M/WBE certification application
URL:https://shopyourcity.cityofnewyork.us/event/m-wbe-certification-webinar/
CATEGORIES:NYC Department of Small Business Services
ORGANIZER;CN="NYC Department of Small Business Services - Certification":MAILTO:mwbe@sbs.nyc.gov
END:VEVENT
END:VCALENDAR