BEGIN:VCALENDAR
VERSION:2.0
PRODID:-//Shop Your City - ECPv6.15.20//NONSGML v1.0//EN
CALSCALE:GREGORIAN
METHOD:PUBLISH
X-ORIGINAL-URL:https://shopyourcity.cityofnewyork.us
X-WR-CALDESC:Events for Shop Your City
REFRESH-INTERVAL;VALUE=DURATION:PT1H
X-Robots-Tag:noindex
X-PUBLISHED-TTL:PT1H
BEGIN:VTIMEZONE
TZID:America/New_York
BEGIN:DAYLIGHT
TZOFFSETFROM:-0500
TZOFFSETTO:-0400
TZNAME:EDT
DTSTART:20230312T070000
END:DAYLIGHT
BEGIN:STANDARD
TZOFFSETFROM:-0400
TZOFFSETTO:-0500
TZNAME:EST
DTSTART:20231105T060000
END:STANDARD
BEGIN:DAYLIGHT
TZOFFSETFROM:-0500
TZOFFSETTO:-0400
TZNAME:EDT
DTSTART:20240310T070000
END:DAYLIGHT
BEGIN:STANDARD
TZOFFSETFROM:-0400
TZOFFSETTO:-0500
TZNAME:EST
DTSTART:20241103T060000
END:STANDARD
BEGIN:DAYLIGHT
TZOFFSETFROM:-0500
TZOFFSETTO:-0400
TZNAME:EDT
DTSTART:20250309T070000
END:DAYLIGHT
BEGIN:STANDARD
TZOFFSETFROM:-0400
TZOFFSETTO:-0500
TZNAME:EST
DTSTART:20251102T060000
END:STANDARD
BEGIN:DAYLIGHT
TZOFFSETFROM:-0500
TZOFFSETTO:-0400
TZNAME:EDT
DTSTART:20260308T070000
END:DAYLIGHT
BEGIN:STANDARD
TZOFFSETFROM:-0400
TZOFFSETTO:-0500
TZNAME:EST
DTSTART:20261101T060000
END:STANDARD
END:VTIMEZONE
BEGIN:VEVENT
DTSTART;TZID=America/New_York:20240516T080000
DTEND;TZID=America/New_York:20240516T110000
DTSTAMP:20260420T231924
CREATED:20240430T213149Z
LAST-MODIFIED:20240501T183339Z
UID:2544-1715846400-1715857200@shopyourcity.cityofnewyork.us
SUMMARY:Bronx Chamber of Commerce Resource Fair
DESCRIPTION:Our Resource Fair is a can’t-miss opportunity for Bronx professionals and recent graduates to meet a diverse array of employers\, refine career goals\, and strengthen their candidacy. \nThe event will also provide a platform for businesses & organizations seeking new talent to augment their hiring efforts in the Bronx. \nDuring the event\, attendees will have access to: \n\nFree Professional Headshots\nOne-on-One Resume Assistance\nEmployers Seeking New Hires\nAnd Much More\n\nSmall businesses that participate in this event will also have access to City agencies on-site providing resources and assistance. \nNOTE: Please enter at Gate 6 (East 161st Street and River Avenue)\, adjacent to right field. \nThis Bronx Chamber of Commerce event is made possible with support from Empire City Casino by MGM Resorts\, and has been developed in partnership with the New York Yankees\, NYC Department of Small Business Services\, and the Bronx EDC.
URL:https://shopyourcity.cityofnewyork.us/event/bronx-chamber-of-commerce-resource-fair/
LOCATION:Yankee Stadium\, One East 161st Street\, Gate 6\, Bronx\, NY\, 10451\, United States
CATEGORIES:Bronx,NYC Department of Small Business Services,NYC Small Business Month
ATTACH;FMTTYPE=image/png:https://shopyourcity.cityofnewyork.us/wp-content/uploads/2024/04/bronx-Resource-Fair-Flyer.png
ORGANIZER;CN="Bronx Chamber of Commerce":MAILTO:helpdesk@bronxchamber.org
END:VEVENT
BEGIN:VEVENT
DTSTART;TZID=America/New_York:20240520T110000
DTEND;TZID=America/New_York:20240520T130000
DTSTAMP:20260420T231924
CREATED:20240429T195036Z
LAST-MODIFIED:20240429T195038Z
UID:2489-1716202800-1716210000@shopyourcity.cityofnewyork.us
SUMMARY:Small Business Meet & Greet with the Office of Nightlife
DESCRIPTION:At this free meet & greet\, you’ll have the opportunity to mingle with Jeffrey Garcia\, Executive Director of the NYC Office of Nightlife at the NYC Department of Small Business Services (SBS)\, and other representatives from SBS. \n\nNightlife Know-How: Get a comprehensive rundown of the NYC Office of Nightlife and how their services can boost your business.\nStay Ahead of the Curve: Learn about the latest rules and regulations affecting your industry\, ensuring you’re always compliant.\nUnlock Free Resources: Discover free city services designed to help your business thrive.\n\nThe program will be followed by a Q&A\, during which you can have your issues addressed by industry experts on the spot. \nLight refreshments will be served.
URL:https://shopyourcity.cityofnewyork.us/event/small-business-meet-greet-with-the-office-of-nightlife/
LOCATION:Sofia’s Taqueria\, 4370 Amboy Road\, Staten Island\, 10312
CATEGORIES:NYC Department of Small Business Services,NYC Small Business Month,Staten Island
ATTACH;FMTTYPE=image/jpeg:https://shopyourcity.cityofnewyork.us/wp-content/uploads/2024/04/SmallBusinessMonthEventInvite.jpg
ORGANIZER;CN="Staten Island Chamber of Commerce":MAILTO:https://www.sichamber.com/contact
END:VEVENT
BEGIN:VEVENT
DTSTART;TZID=America/New_York:20240523T070000
DTEND;TZID=America/New_York:20240523T090000
DTSTAMP:20260420T231924
CREATED:20240419T212457Z
LAST-MODIFIED:20240509T184824Z
UID:2229-1716447600-1716454800@shopyourcity.cityofnewyork.us
SUMMARY:Growing Your Business as AAPI Entrepreneurs in NYC
DESCRIPTION:Join the NYC Department of Small Business Services (SBS) and the Korean Cultural Center New York (KCCNY) to celebrate NYC Small Business Month and Asian American Pacific Islander (AAPI) month. \nSBS Commissioner Kevin D. Kim will share personal insights about his journey as an AAPI entrepreneur and the SBS team will share tools and resources to help you start and grow your business in NYC.
URL:https://shopyourcity.cityofnewyork.us/event/growing-your-business-as-aapi-entrepreneurs-in-nyc/
LOCATION:Korean Cultural Center New York\, 122 East 32nd Street\, New York\, 10016
CATEGORIES:Manhattan,NYC Department of Small Business Services,NYC Small Business Month
ATTACH;FMTTYPE=image/jpeg:https://shopyourcity.cityofnewyork.us/wp-content/uploads/2024/04/SBM_KCCNY-Eventbrite.jpg
ORGANIZER;CN="NYC Department of Small Business Services":MAILTO:business@sbs.nyc.gov
END:VEVENT
BEGIN:VEVENT
DTSTART;TZID=America/New_York:20240523T120000
DTEND;TZID=America/New_York:20240523T170000
DTSTAMP:20260420T231924
CREATED:20240427T014620Z
LAST-MODIFIED:20240427T014621Z
UID:2330-1716465600-1716483600@shopyourcity.cityofnewyork.us
SUMMARY:Asian American Heritage Month Celebration & Night Market
DESCRIPTION:The first ever Brooklyn Chamber of Commerce Asian Heritage Month Celebration and Night Market – Spring Festival will include artisan crafts\, games\, cultural performances\, live music\, and more than 60 food and drink vendors. \nThis timely landmark celebration of Asian culture will welcome 2\,000-3\,000 guests to Industry City in Sunset Park\, Brooklyn!
URL:https://shopyourcity.cityofnewyork.us/event/asian-american-heritage-month-celebration-night-market/
LOCATION:Industry City\, 35th and 36th streets\, Brooklyn\, NY\, NY\, 11232\, United States
CATEGORIES:Brooklyn,NYC Small Business Month
ATTACH;FMTTYPE=image/png:https://shopyourcity.cityofnewyork.us/wp-content/uploads/2024/04/2024-asian-heritage-month-celebration-night-market-1.png
ORGANIZER;CN="Brooklyn Chamber of Commerce":MAILTO:events@brooklynchamber.com
END:VEVENT
BEGIN:VEVENT
DTSTART;TZID=America/New_York:20240529T050000
DTEND;TZID=America/New_York:20240529T110000
DTSTAMP:20260420T231924
CREATED:20240417T014938Z
LAST-MODIFIED:20240417T014939Z
UID:2189-1716958800-1716980400@shopyourcity.cityofnewyork.us
SUMMARY:NYC Small Business Month Expo
DESCRIPTION:The NYC Department of Small Business Services (SBS) is hosting the first-ever NYC Small Business Month Expo to provide a variety of free information\, resources\, and direct services that address the needs of small business owners of all stages\, industries\, and boroughs. \n\n\n\nAccess 100+ free city programs\, agencies\, and partner resources – all under one roof: \n\n\n\n\nFaster city permits and licenses\n\n\n\nFinancing and legal assistance\n\n\n\nHire workers\n\n\n\nContract with NYC through the M/WBE Borough Forum\n\n\n\nFree consultations\, workshops\, and networking\n\n\n\n… and much more!
URL:https://shopyourcity.cityofnewyork.us/event/nyc-small-business-month-expo/
LOCATION:Pier 36\, 299 South Street\, New York\, New York\, 10002\, United States
CATEGORIES:Manhattan,NYC Department of Small Business Services,NYC Small Business Month
ORGANIZER;CN="NYC Department of Small Business Services":MAILTO:business@sbs.nyc.gov
END:VEVENT
BEGIN:VEVENT
DTSTART;TZID=America/New_York:20240530T100000
DTEND;TZID=America/New_York:20240530T110000
DTSTAMP:20260420T231924
CREATED:20240520T202225Z
LAST-MODIFIED:20240520T202228Z
UID:2807-1717063200-1717066800@shopyourcity.cityofnewyork.us
SUMMARY:Prepare Your Small Business for Capital
DESCRIPTION:Looking to level up and better understand your financial statements?  \nJoin RBxA for their upcoming event\, Prepare Your Small Business for Capital. \nThis session will equip you to better understand your business bank statements and more — improving your chances to access capital.
URL:https://shopyourcity.cityofnewyork.us/event/prepare-your-small-business-for-capital/
LOCATION:Virtual
CATEGORIES:Brooklyn,NYC Small Business Month
ORGANIZER;CN="Restoration Business Exchange + Accelerator":MAILTO:communications@restorationplaza.org
END:VEVENT
BEGIN:VEVENT
DTSTART;TZID=America/New_York:20250503T050000
DTEND;TZID=America/New_York:20250503T120000
DTSTAMP:20260420T231924
CREATED:20250423T025809Z
LAST-MODIFIED:20250423T031332Z
UID:3782-1746248400-1746273600@shopyourcity.cityofnewyork.us
SUMMARY:Manhattan Business Conference: Empowering Grassroots Entrepreneurs
DESCRIPTION:Learn how to grow\, adapt\, and thrive – now and in the future! \n\n\n\nTopics include: \n\n\n\n\nfunding opportunities\n\n\n\ncredit repair\n\n\n\nlegal and licensing requirements\n\n\n\nbusiness disaster relief\n\n\n\nbuilding powerful community partnerships\n\n\n\n\nLight breakfast and lunch will be served.
URL:https://shopyourcity.cityofnewyork.us/event/manhattan-business-conference-empowering-grassroots-entrepreneurs/
LOCATION:The Forum at Columbia University\, 601 West 125th Street\, New York\, New York\, 10027\, United States
CATEGORIES:Manhattan,NYC Department of Small Business Services,NYC Small Business Month
ORGANIZER;CN="Manhattan Chamber of Commerce":MAILTO:info@manhattancc.org
END:VEVENT
BEGIN:VEVENT
DTSTART;TZID=America/New_York:20250508T070000
DTEND;TZID=America/New_York:20250508T110000
DTSTAMP:20260420T231924
CREATED:20250423T030110Z
LAST-MODIFIED:20250423T031247Z
UID:3784-1746687600-1746702000@shopyourcity.cityofnewyork.us
SUMMARY:Queens Small Business Resource Expo
DESCRIPTION:In honor of this year’s NYC Small Business Month\, the Queens Chamber of Commerce and the NYC Department of Small Business Services are proud to host the Queens Small Business Resource Expo at the Astoria World Manor. More than two dozen agencies from the city will be exhibiting at this event\, ready to answer questions and provide complimentary information about programs and services available to small businesses and to learn about Chamber on the Go. \n\n\n\nTopics that will be covered at this event include: \n\n\n\n\nBusiness resources\n\n\n\nAccess to capital information.\n\n\n\nMerchants’ organizations in Queens.\n\n\n\nWellness in the workplace\n\n\n\nLegal assistance
URL:https://shopyourcity.cityofnewyork.us/event/queens-small-business-resource-expo/
LOCATION:Astoria World Manor\, 25-22 Astoria Boulevard\, Astoria\, New York\, 11102\, United States
CATEGORIES:NYC Department of Small Business Services,NYC Small Business Month,Queens
ORGANIZER;CN="Queens Chamber of Commerce":MAILTO:jdonado@queenschamber.org
END:VEVENT
BEGIN:VEVENT
DTSTART;TZID=America/New_York:20250514T070000
DTEND;TZID=America/New_York:20250514T110000
DTSTAMP:20260420T231924
CREATED:20250423T031049Z
LAST-MODIFIED:20250423T031317Z
UID:3786-1747206000-1747220400@shopyourcity.cityofnewyork.us
SUMMARY:Brooklyn Small Business Resource Fair
DESCRIPTION:Join us for a special NYC Small Business Month event. Refreshments will be served. \n\n\n\nFeaturing: \n\n\n\n\nWorkshops\n\n\n\nResources\n\n\n\nDJ & Musical Performance\n\n\n\n… and more!
URL:https://shopyourcity.cityofnewyork.us/event/brooklyn-small-business-resource-fair-2/
LOCATION:Restoration Plaza\, 1368 Fulton Street\, Brooklyn\, New York\, 11216\, United States
CATEGORIES:Brooklyn,NYC Department of Small Business Services,NYC Small Business Month
ORGANIZER;CN="Brooklyn Chamber of Commerce":MAILTO:events@brooklynchamber.com
END:VEVENT
BEGIN:VEVENT
DTSTART;TZID=America/New_York:20250519T093000
DTEND;TZID=America/New_York:20250519T110000
DTSTAMP:20260420T231924
CREATED:20250429T212528Z
LAST-MODIFIED:20250429T212530Z
UID:3798-1747647000-1747652400@shopyourcity.cityofnewyork.us
SUMMARY:NYC Small Business Month: Afternoon Tea with SBS Commissioner Dynishal Gross
DESCRIPTION:As a small business\, you probably have lots of questions. Here is your chance to be heard!  \n\n\n\nIn honor of NYC Small Business Month\, the Staten Island Chamber of Commerce is hosting NYC Department of Small Business Services (SBS) Commissioner Dynishal Gross for an afternoon Q&A. \n\n\n\nCommissioner Gross will meet with small businesses\, detail the free resources available at SBS\, provide updates on upcoming events\, and more. \n\n\n\nPlus\, you’ll have the opportunity to network with other small businesses.
URL:https://shopyourcity.cityofnewyork.us/event/nyc-small-business-month-afternoon-tea-with-sbs-commissioner-dynishal-gross/
LOCATION:Island Chateau\, 900 W. Fingerboard Road\, Staten Island\, New York\, 10305\, United States
CATEGORIES:NYC Department of Small Business Services,NYC Small Business Month,Staten Island
ORGANIZER;CN="Staten Island Chamber of Commerce":MAILTO:https://www.sichamber.com/contact
END:VEVENT
BEGIN:VEVENT
DTSTART;TZID=America/New_York:20250520T060000
DTEND;TZID=America/New_York:20250520T093000
DTSTAMP:20260420T231924
CREATED:20250423T201147Z
LAST-MODIFIED:20250423T201148Z
UID:3788-1747720800-1747733400@shopyourcity.cityofnewyork.us
SUMMARY:Grow and Secure Your Business with Google
DESCRIPTION:Join the NYC Department of Small Business Services (SBS) and Google for an in-person session on essential digital tools to grow your business\, improve operational efficiency\, and protect your business against cybersecurity threats. \n\n\n\nAttendees will also have the opportunity to sign up for free\, onsite consultations with SBS’s NYC Business Solutions Center (BSC) advisors. \n\n\n\nNote: Light refreshments will be available.
URL:https://shopyourcity.cityofnewyork.us/event/grow-and-secure-your-business-with-google/
LOCATION:NYC Department of Small Business Services\, 1 Liberty Plaza\, 11th Floor\, New York\, NY\, 10006\, United States
ATTACH;FMTTYPE=image/jpeg:https://shopyourcity.cityofnewyork.us/wp-content/uploads/2025/04/SBM_Expo-digital-SBSGoogle-2160x1080-1.jpg
ORGANIZER;CN="NYC Department of Small Business Services":MAILTO:business@sbs.nyc.gov
END:VEVENT
BEGIN:VEVENT
DTSTART;TZID=America/New_York:20250528T120000
DTEND;TZID=America/New_York:20250528T150000
DTSTAMP:20260420T231924
CREATED:20250503T022031Z
LAST-MODIFIED:20250503T022128Z
UID:3825-1748433600-1748444400@shopyourcity.cityofnewyork.us
SUMMARY:State of NYC Nightlife Town Hall 2025
DESCRIPTION:In celebration of NYC Small Business Month\, the NYC Office of Nightlife invites the entire nightlife industry and community — including bar\, club\, and restaurant owners\, performers\, DJs\, workers\, patrons\, and residents — to come together to learn about our ongoing work\, city programs\, and resources. \n\n\n\nYou will also have the opportunity to connect with representatives from various city agencies and\, most importantly\, share your comments\, concerns\, and recommendations to help shape the future of NYC nightlife. \n\n\n\nWe want to hear from you — your voice matters.
URL:https://shopyourcity.cityofnewyork.us/event/state-of-nyc-nightlife-town-hall-2025/
LOCATION:Center415\, 415 5th Avenue\, New York\, New York\, 10016\, United States
ATTACH;FMTTYPE=image/avif:https://shopyourcity.cityofnewyork.us/wp-content/uploads/2025/05/https___cdn.evbuc_.com_images_1022202163_1991398155883_1_original.avif
ORGANIZER;CN="NYC Department of Small Business Services":MAILTO:business@sbs.nyc.gov
END:VEVENT
BEGIN:VEVENT
DTSTART;TZID=America/New_York:20250529T050000
DTEND;TZID=America/New_York:20250529T120000
DTSTAMP:20260420T231924
CREATED:20250424T211719Z
LAST-MODIFIED:20250424T225920Z
UID:3790-1748494800-1748520000@shopyourcity.cityofnewyork.us
SUMMARY:NYC Small Business Month Expo 2025
DESCRIPTION:The NYC Department of Small Business Services (SBS) is hosting the NYC Small Business Month Expo to provide a variety of free information\, resources\, and direct services* that address the needs of small business owners of all stages\, industries\, and boroughs. \n\n\n\nAccess 100+ free city programs\, agencies\, and partner resources – all under one roof: \n\n\n\n\nFaster city permits and licenses\n\n\n\nFinancing and legal assistance\n\n\n\nHire workers\n\n\n\nGovernment contracting\n\n\n\nFree resource fair\, consultations\, workshops\, and networking\n\n\n\n… and much more!\n\n\n\n\n*NEW THIS YEAR! Make an appointment for an on-site consultation (i.e. financing\, legal\, M/WBE certification\, winning government contracts\, and more). Make sure to check your Expo confirmation email for details and a link to register for a timeslot.
URL:https://shopyourcity.cityofnewyork.us/event/nyc-small-business-month-expo-2025/
LOCATION:Center415\, 415 5th Avenue\, New York\, New York\, 10016\, United States
CATEGORIES:Manhattan,NYC Department of Small Business Services,NYC Small Business Month
ATTACH;FMTTYPE=image/jpeg:https://shopyourcity.cityofnewyork.us/wp-content/uploads/2025/03/NYC_Small-Business_Month-Eventbrite-25.jpg
ORGANIZER;CN="NYC Department of Small Business Services":MAILTO:business@sbs.nyc.gov
END:VEVENT
END:VCALENDAR