BEGIN:VCALENDAR
VERSION:2.0
PRODID:-//Shop Your City - ECPv6.15.20//NONSGML v1.0//EN
CALSCALE:GREGORIAN
METHOD:PUBLISH
X-ORIGINAL-URL:https://shopyourcity.cityofnewyork.us
X-WR-CALDESC:Events for Shop Your City
REFRESH-INTERVAL;VALUE=DURATION:PT1H
X-Robots-Tag:noindex
X-PUBLISHED-TTL:PT1H
BEGIN:VTIMEZONE
TZID:America/New_York
BEGIN:DAYLIGHT
TZOFFSETFROM:-0500
TZOFFSETTO:-0400
TZNAME:EDT
DTSTART:20230312T070000
END:DAYLIGHT
BEGIN:STANDARD
TZOFFSETFROM:-0400
TZOFFSETTO:-0500
TZNAME:EST
DTSTART:20231105T060000
END:STANDARD
BEGIN:DAYLIGHT
TZOFFSETFROM:-0500
TZOFFSETTO:-0400
TZNAME:EDT
DTSTART:20240310T070000
END:DAYLIGHT
BEGIN:STANDARD
TZOFFSETFROM:-0400
TZOFFSETTO:-0500
TZNAME:EST
DTSTART:20241103T060000
END:STANDARD
BEGIN:DAYLIGHT
TZOFFSETFROM:-0500
TZOFFSETTO:-0400
TZNAME:EDT
DTSTART:20250309T070000
END:DAYLIGHT
BEGIN:STANDARD
TZOFFSETFROM:-0400
TZOFFSETTO:-0500
TZNAME:EST
DTSTART:20251102T060000
END:STANDARD
END:VTIMEZONE
BEGIN:VEVENT
DTSTART;TZID=America/New_York:20240529T050000
DTEND;TZID=America/New_York:20240529T110000
DTSTAMP:20260421T192546
CREATED:20240417T014938Z
LAST-MODIFIED:20240417T014939Z
UID:2189-1716958800-1716980400@shopyourcity.cityofnewyork.us
SUMMARY:NYC Small Business Month Expo
DESCRIPTION:The NYC Department of Small Business Services (SBS) is hosting the first-ever NYC Small Business Month Expo to provide a variety of free information\, resources\, and direct services that address the needs of small business owners of all stages\, industries\, and boroughs. \n\n\n\nAccess 100+ free city programs\, agencies\, and partner resources – all under one roof: \n\n\n\n\nFaster city permits and licenses\n\n\n\nFinancing and legal assistance\n\n\n\nHire workers\n\n\n\nContract with NYC through the M/WBE Borough Forum\n\n\n\nFree consultations\, workshops\, and networking\n\n\n\n… and much more!
URL:https://shopyourcity.cityofnewyork.us/event/nyc-small-business-month-expo/
LOCATION:Pier 36\, 299 South Street\, New York\, New York\, 10002\, United States
CATEGORIES:Manhattan,NYC Department of Small Business Services,NYC Small Business Month
ORGANIZER;CN="NYC Department of Small Business Services":MAILTO:business@sbs.nyc.gov
END:VEVENT
END:VCALENDAR