BEGIN:VCALENDAR
VERSION:2.0
PRODID:-//Shop Your City - ECPv6.15.20//NONSGML v1.0//EN
CALSCALE:GREGORIAN
METHOD:PUBLISH
X-ORIGINAL-URL:https://shopyourcity.cityofnewyork.us
X-WR-CALDESC:Events for Shop Your City
REFRESH-INTERVAL;VALUE=DURATION:PT1H
X-Robots-Tag:noindex
X-PUBLISHED-TTL:PT1H
BEGIN:VTIMEZONE
TZID:UTC
BEGIN:STANDARD
TZOFFSETFROM:+0000
TZOFFSETTO:+0000
TZNAME:UTC
DTSTART:20230101T000000
END:STANDARD
END:VTIMEZONE
BEGIN:VEVENT
DTSTART;TZID=UTC:20240502T100000
DTEND;TZID=UTC:20240502T110000
DTSTAMP:20260420T045425
CREATED:20240425T210014Z
LAST-MODIFIED:20240425T210016Z
UID:2303-1714644000-1714647600@shopyourcity.cityofnewyork.us
SUMMARY:Meet the Lender: Citizens Bank
DESCRIPTION:Have you been wondering how to get money to start or grow your business? Do you know how to ask for financing? \nIf you have been asking yourself these questions and are not sure where to find the answers\, then you need to attend our Meet the Lender workshop and meet with one of our local lending partners. \nThere will also be time for you to speak with the lender individually about your business needs.
URL:https://shopyourcity.cityofnewyork.us/event/meet-the-lender-citizens-bank-2/
LOCATION:Webinar
CATEGORIES:NYC Department of Small Business Services,NYC Small Business Month,Queens
ATTACH;FMTTYPE=image/jpeg:https://shopyourcity.cityofnewyork.us/wp-content/uploads/2023/04/Financing-Assistance-program.jpg
ORGANIZER;CN="NYC Department of Small Business Services":MAILTO:business@sbs.nyc.gov
END:VEVENT
BEGIN:VEVENT
DTSTART;TZID=UTC:20240502T180000
DTEND;TZID=UTC:20240502T200000
DTSTAMP:20260420T045425
CREATED:20240429T215926Z
LAST-MODIFIED:20240429T215927Z
UID:2520-1714672800-1714680000@shopyourcity.cityofnewyork.us
SUMMARY:Small Business Finances Seminar (小企业金融研讨会)
DESCRIPTION:Small business owners should have full control over their own financial records\, both for tax purposes and when applying for loans. \nJoin the  Asian American Federation as experts cover crucial topics (in Mandarin) for small business owners\, including: \n\nWhat to consider when choosing a tax professional\nHow to protect yourself from dishonest tax preparers\nBest practices for business recordkeeping\nLow-interest loan options\nFree small business consulting services\nQ&A\n\n  \n小企业主应该完全控制自己的财务记录，无论是出于税务目的还是申请贷款时。加入亚裔美国人联合会，专家们将涵盖小企业主的重要主题，包括： \n\n选择税务专业人员时要考虑什么\n如何保护自己免受不诚实税务从业者的侵害\n业务记录保存的最佳实践\n低息贷款选择\n免费的小型企业咨询服务\n问答\n\n研讨会有两场，第一是5月2号（周四），6点至8点，在大通银行的法拉盛 Skyview （40-28 College Point Blvd，Flushing）。
URL:https://shopyourcity.cityofnewyork.us/event/small-business-finances-seminar-%e5%b0%8f%e4%bc%81%e4%b8%9a%e9%87%91%e8%9e%8d%e7%a0%94%e8%ae%a8%e4%bc%9a-2/
LOCATION:Chase Bank – Flushing Skyview Center\, 40-28 College Point Boulevard\, Flushing\, NY\, 11354\, United States
ATTACH;FMTTYPE=image/png:https://shopyourcity.cityofnewyork.us/wp-content/uploads/2024/04/Manhattan.Flushing-Skyview-Mandarin.png
ORGANIZER;CN="Asian American Federation":MAILTO:info@aafederation.org
END:VEVENT
END:VCALENDAR