BEGIN:VCALENDAR
VERSION:2.0
PRODID:-//Shop Your City - ECPv6.15.20//NONSGML v1.0//EN
CALSCALE:GREGORIAN
METHOD:PUBLISH
X-WR-CALNAME:Shop Your City
X-ORIGINAL-URL:https://shopyourcity.cityofnewyork.us
X-WR-CALDESC:Events for Shop Your City
REFRESH-INTERVAL;VALUE=DURATION:PT1H
X-Robots-Tag:noindex
X-PUBLISHED-TTL:PT1H
BEGIN:VTIMEZONE
TZID:UTC
BEGIN:STANDARD
TZOFFSETFROM:+0000
TZOFFSETTO:+0000
TZNAME:UTC
DTSTART:20230101T000000
END:STANDARD
END:VTIMEZONE
BEGIN:VEVENT
DTSTART;TZID=UTC:20240516T110000
DTEND;TZID=UTC:20240516T150000
DTSTAMP:20260420T073531
CREATED:20240419T173603Z
LAST-MODIFIED:20240429T162419Z
UID:2235-1715857200-1715871600@shopyourcity.cityofnewyork.us
SUMMARY:Queens Small Business Resources Expo
DESCRIPTION:Join the NYC Department of Small Business Services and the Queens Chamber of Commerce for a resource fair in celebration of NYC Small Business Month! \nFeaturing: \n\nAccess to Capital\nLegal Assistance\nMerchants Associations
URL:https://shopyourcity.cityofnewyork.us/event/queens-day-small-business-expo/
LOCATION:Astoria World Manor\, 25-22 Astoria Boulevard\, Astoria\, New York\, 11102\, United States
CATEGORIES:Queens
ORGANIZER;CN="Queens Chamber of Commerce":MAILTO:jdonado@queenschamber.org
END:VEVENT
END:VCALENDAR