BEGIN:VCALENDAR
VERSION:2.0
PRODID:-//Shop Your City - ECPv6.15.20//NONSGML v1.0//EN
CALSCALE:GREGORIAN
METHOD:PUBLISH
X-WR-CALNAME:Shop Your City
X-ORIGINAL-URL:https://shopyourcity.cityofnewyork.us
X-WR-CALDESC:Events for Shop Your City
REFRESH-INTERVAL;VALUE=DURATION:PT1H
X-Robots-Tag:noindex
X-PUBLISHED-TTL:PT1H
BEGIN:VTIMEZONE
TZID:America/New_York
BEGIN:DAYLIGHT
TZOFFSETFROM:-0500
TZOFFSETTO:-0400
TZNAME:EDT
DTSTART:20230312T070000
END:DAYLIGHT
BEGIN:STANDARD
TZOFFSETFROM:-0400
TZOFFSETTO:-0500
TZNAME:EST
DTSTART:20231105T060000
END:STANDARD
BEGIN:DAYLIGHT
TZOFFSETFROM:-0500
TZOFFSETTO:-0400
TZNAME:EDT
DTSTART:20240310T070000
END:DAYLIGHT
BEGIN:STANDARD
TZOFFSETFROM:-0400
TZOFFSETTO:-0500
TZNAME:EST
DTSTART:20241103T060000
END:STANDARD
BEGIN:DAYLIGHT
TZOFFSETFROM:-0500
TZOFFSETTO:-0400
TZNAME:EDT
DTSTART:20250309T070000
END:DAYLIGHT
BEGIN:STANDARD
TZOFFSETFROM:-0400
TZOFFSETTO:-0500
TZNAME:EST
DTSTART:20251102T060000
END:STANDARD
END:VTIMEZONE
BEGIN:VEVENT
DTSTART;TZID=America/New_York:20240506T100000
DTEND;TZID=America/New_York:20240506T140000
DTSTAMP:20260422T045951
CREATED:20240427T015357Z
LAST-MODIFIED:20240427T015358Z
UID:2467-1714989600-1715004000@shopyourcity.cityofnewyork.us
SUMMARY:Strolling Mariachi Performance
DESCRIPTION:A local Mariachi Ensemble will stroll and perform along the Steinway Street BID corridor (Steinway Street between 28th – 35th avenues).
URL:https://shopyourcity.cityofnewyork.us/event/strolling-mariachi-performance/
LOCATION:Steinway Street BID Corridor (Steinway Street between 28th – 35th avenues)\, Steinway Street between 28th - 35th avenues\, Astoria\, NY\, 11103\, United States
CATEGORIES:NYC Department of Small Business Services,NYC Small Business Month,Queens
ORGANIZER;CN="Steinway Street BID":MAILTO:info@steinwaystreet.org
END:VEVENT
END:VCALENDAR